Workbook
Name _3._Consists_of_utilities__wholesale_trade__retail_trade__transportation_and_warehousing__information__finance_and_insurance__real_estate_and_rental_and_leasing__professional__scientific_and_technical_services__management_of_companies_and_enterprises__adm: #REF!
Name _3._Consists_of_utilities__wholesale_trade__retail_trade__transportation_and_warehousing__information__finance_and_insurance__real_estate_and_rental_and_leasing__professional__scientific_and_technical_services__management_of_companies_and_enterprises__adm: #REF!
Name _3._Consists_of_utilities__wholesale_trade__retail_trade__transportation_and_warehousing__information__finance_and_insurance__real_estate_and_rental_and_leasing__professional__scientific_and_technical_services__management_of_companies_and_enterprises__adm: #REF!
Name _3._Consists_of_utilities__wholesale_trade__retail_trade__transportation_and_warehousing__information__finance_and_insurance__real_estate_and_rental_and_leasing__professional__scientific_and_technical_services__management_of_companies_and_enterprises__adm: #REF!
Name _3._Consists_of_utilities__wholesale_trade__retail_trade__transportation_and_warehousing__information__finance_and_insurance__real_estate_and_rental_and_leasing__professional__scientific_and_technical_services__management_of_companies_and_enterprises__adm: #REF!
Name _3._Consists_of_utilities__wholesale_trade__retail_trade__transportation_and_warehousing__information__finance_and_insurance__real_estate_and_rental_and_leasing__professional__scientific_and_technical_services__management_of_companies_and_enterprises__adm: #REF!
Name _3._Consists_of_utilities__wholesale_trade__retail_trade__transportation_and_warehousing__information__finance_and_insurance__real_estate_and_rental_and_leasing__professional__scientific_and_technical_services__management_of_companies_and_enterprises__adm: #REF!
Name _3._Consists_of_utilities__wholesale_trade__retail_trade__transportation_and_warehousing__information__finance_and_insurance__real_estate_and_rental_and_leasing__professional__scientific_and_technical_services__management_of_companies_and_enterprises__adm: #REF!
Name grp_DB_select: #REF!
Name s: #REF!
Name s: #REF!
Name s: #REF!
Name s: #REF!
Name s: #REF!
Name s: #REF!
Name s: #REF!
Name s: #REF!
Name s: #REF!
Name s: #REF!
Name s: #REF!

Sheet Contents
A1: Release Date | C1: September 25, 2025
A2: Table of contents: Select table from the spreadsheet tabs which appear below the list
B4: Table 1. Real Gross Domestic Product and Related Measures: Percent Change from Preceding Period | C4: 실질 국내총생산 및 관련 지표: 전기대비 백분율 변화
B6: Table 2. Contributions to Percent Change in Real Gross Domestic Product | C6: 실질 국내총생산 백분율 변화 기여도
B8: Table 3. Gross Domestic Product: Level and Change from Preceding Period | C8: 국내총생산: 전기대비 수준 및 변화
B10: Table 4. Price Indexes for Gross Domestic Product and Related Measures: Percent Change from Preceding Period | C10: 국내총생산 및 관련 지표에 대한 물가지수: 전기대비 백분율 변화
B12: Table 5. Real Gross Domestic Product: Annual Percent Change | C12: 실질 국내총생산: 전년대비 백분율 변화
B14: Table 6. Real Gross Domestic Product: Percent Change from Quarter One Year Ago | C14: 실질 국내총생산: 전년동기대비 백분율 변화
B16: Table 7. Relation of Gross Domestic Product, Gross National Product, and National Income | C16: 국내총생산, 국민총생산, 국민소득 간의 관계
B18: Table 8. Personal Income and Its Disposition | C18: 개인 소득 및 분배
B20: Table 9. Corporate Profits: Level and Percent Change | C20: 기업 이익: 수준 및 백분율 변화
B22: Table 10. Corporate Profits by Industry: Level and Change from Preceding Period | C22: 산업별 기업 이익: 전기대비 수준 및 변화
B24: Table 11. Gross Value Added of Nonfinancial Domestic Corporate Business | C24: 비금융 국내 기업 총부가가치
B26: Table 12. Real Gross Domestic Product by Industry Group: Percent Change from Preceding Period | C26: 산업 그룹별 실질 국내총생산: 전기대비 백분율 변화
... B42: Appendix Table B. Not Seasonally Adjusted Real Gross Domestic Product: Level and Percent Change from Quarter One Year Ago | C42: 실질 국내총생산, 원계열: 전년동기대비 수준 및 백분율 변화

Sheet Table 1
A1: Table 1. Real Gross Domestic Product and Related Measures: Percent Change from Preceding Period
A2: =VLOOKUP(A1,Contents!$B:$C,2,0) -> 실질 국내총생산 및 관련 지표: 전기대비 백분율 변화
A3: Line | D3: 2022 | E3: 2023 | F3: 2024 | G3: Seasonally adjusted at annual rates (연율 계절조정계열)
A4: Line | D4: 2022 | E4: 2023 | F4: 2024 | G4: 2021 | H4: 2021 | I4: 2022 | J4: 2022 | K4: 2022 | L4: 2022 | M4: 2023 | N4: 2023 | O4: 2023 | P4: 2023 | Q4: 2024 | R4: 2024 | S4: 2024 | T4: 2024 | U4: 2025 | V4: 2025
A5: Line | D5: 2022 | E5: 2023 | F5: 2024 | G5: Q3 | H5: Q4 | I5: Q1 | J5: Q2 | K5: Q3 | L5: Q4 | M5: Q1 | N5: Q2 | O5: Q3 | P5: Q4 | Q5: Q1 | R5: Q2 | S5: Q3 | T5: Q4 | U5: Q1 | V5: Q2
A6: 1 | B6: Gross domestic product (GDP) | C6: 국내총생산 | D6: 2.5 | E6: 2.9 | F6: 2.8 | G6: 3.3 | H6: 7 | I6: -1 | J6: 0.6 | K6: 2.9 | L6: 2.8 | M6: 2.9 | N6: 2.5 | O6: 4.7 | P6: 3.4 | Q6: 0.8 | R6: 3.6 | S6: 3.3 | T6: 1.9 | U6: -0.6 | V6: 3.8
A7: 2 | B7: Personal consumption expenditures | C7: 개인소비지출 | D7: 3 | E7: 2.6 | F7: 2.9 | G7: 3.4 | H7: 3.9 | I7: 0.4 | J7: 3.3 | K7: 1.9 | L7: 0.8 | M7: 4.5 | N7: 1.5 | O7: 3.1 | P7: 3 | Q7: 1.7 | R7: 3.9 | S7: 4 | T7: 3.9 | U7: 0.6 | V7: 2.5
A8: 3 | B8: Goods | C8: 상품 | D8: -0.6 | E8: 1.7 | F8: 2.8 | G8: -8.9 | H8: 3.6 | I8: -2 | J8: -0.4 | K8: -2.5 | L8: -2.3 | M8: 7.2 | N8: 0.4 | O8: 4.4 | P8: 2.2 | Q8: -1.3 | R8: 5.5 | S8: 6.1 | T8: 6.9 | U8: 0.2 | V8: 2.2
A9: 4 | B9: Durable goods | C9: 내구재 | D9: -2 | E9: 3.8 | F9: 3.9 | G9: -23.7 | H9: 6.2 | I9: 0 | J9: -1.3 | K9: -1.5 | L9: -4.8 | M9: 18 | N9: 0.1 | O9: 6.3 | P9: 0.2 | Q9: -0.9 | R9: 7.8 | S9: 8.6 | T9: 13 | U9: -3.4 | V9: 2.3
A10: 5 | B10: Nondurable goods | C10: 비내구재 | D10: 0.2 | E10: 0.6 | F10: 2.3 | G10: 0.8 | H10: 2.1 | I10: -3 | J10: 0.1 | K10: -3 | L10: -0.9 | M10: 1.8 | N10: 0.6 | O10: 3.3 | P10: 3.2 | Q10: -1.6 | R10: 4.3 | S10: 4.8 | T10: 3.8 | U10: 2.2 | V10: 2.2
A11: 6 | B11: Services | C11: 서비스 | D11: 4.9 | E11: 3 | F11: 3 | G11: 10.3 | H11: 4.1 | I11: 1.6 | J11: 5.3 | K11: 4.2 | L11: 2.3 | M11: 3.2 | N11: 2 | O11: 2.4 | P11: 3.4 | Q11: 3.2 | R11: 3.2 | S11: 3 | T11: 2.5 | U11: 0.8 | V11: 2.6
A12: 7 | B12: Gross private domestic investment | C12: 민간국내총투자 | D12: 6.1 | E12: 0.8 | F12: 3 | G12: 15.4 | H12: 28.5 | I12: 7.9 | J12: -8.6 | K12: -6.7 | L12: 8 | M12: -7.1 | N12: 7.2 | O12: 9.4 | P12: 3.6 | Q12: -1.6 | R12: 8.2 | S12: 0.9 | T12: -6.8 | U12: 23.3 | V12: -13.8
A13: 8 | B13: Fixed investment | C13: 고정투자 | D13: 2.5 | E13: 3.4 | F13: 3 | G13: -1.3 | H13: 3.1 | I13: 6.7 | J13: 1.9 | K13: -2.2 | L13: -0.5 | M13: 4.9 | N13: 9.5 | O13: 3.8 | P13: 4.6 | Q13: 3 | R13: 1.4 | S13: 1.5 | T13: -1.9 | U13: 7.1 | V13: 4.4
A14: 9 | B14: Nonresidential | C14: 비주거용 | D14: 6.5 | E14: 7.3 | F14: 2.9 | G14: -1.5 | H14: 3.1 | I14: 12.2 | J14: 7 | K14: 6 | L14: 7.1 | M14: 8.5 | N14: 11 | O14: 1.7 | P14: 5.5 | Q14: 1.5 | R14: 2.5 | S14: 3.5 | T14: -3.7 | U14: 9.5 | V14: 7.3
A15: 10 | B15: Structures | C15: 구조물 | D15: 3.5 | E15: 16.7 | F15: 1.1 | G15: -3.7 | H15: -8.4 | I15: 7.9 | J15: 8.9 | K15: 10.7 | L15: 11.5 | M15: 30.5 | N15: 20.1 | O15: 6.8 | P15: 11.3 | Q15: -5 | R15: -3.9 | S15: -2.2 | T15: -8.1 | U15: -3.1 | V15: -7.5
A16: 11 | B16: Equipment | C16: 장비 | D16: 2.8 | E16: 2.9 | F16: 3.5 | G16: -11.3 | H16: -0.5 | I16: 12.9 | J16: 0.7 | K16: 2.7 | L16: 2.5 | M16: -0.2 | N16: 12.6 | O16: -2.6 | P16: 3.3 | Q16: 0.5 | R16: 8.9 | S16: 8.2 | T16: -4.3 | U16: 21.4 | V16: 8.5
A17: 12 | B17: Intellectual property products | C17: 지식재산 | D17: 11.7 | E17: 6.2 | F17: 3.5 | G17: 10.1 | H17: 13 | I17: 13.8 | J17: 12.4 | K17: 6.9 | L17: 9.3 | M17: 5.5 | N17: 4.7 | O17: 2.9 | P17: 4.2 | Q17: 6.7 | R17: 0.7 | S17: 2.6 | T17: -0.6 | U17: 6.5 | V17: 15
A18: 13 | B18: Residential | C18: 주거용 | D18: -8.1 | E18: -7.8 | F18: 3.2 | G18: -0.8 | H18: 2.7 | I18: -6.9 | J18: -11.1 | K18: -23 | L18: -21.3 | M18: -6.6 | N18: 4.2 | O18: 11.5 | P18: 1.5 | Q18: 8.2 | R18: -2 | S18: -4.8 | T18: 4.3 | U18: -1 | V18: -5.1
A19: 14 | B19: Change in private inventories | C19: 민간재고 변화 | D19: .... | E19: .... | F19: .... | G19: .... | H19: .... | I19: .... | J19: .... | K19: .... | L19: .... | M19: .... | N19: .... | O19: .... | P19: .... | Q19: .... | R19: .... | S19: .... | T19: .... | U19: .... | V19: ....
A20: 15 | B20: Net exports of goods and services | C20: 상품 및 서비스 순수출 | D20: .... | E20: .... | F20: .... | G20: .... | H20: .... | I20: .... | J20: .... | K20: .... | L20: .... | M20: .... | N20: .... | O20: .... | P20: .... | Q20: .... | R20: .... | S20: .... | T20: .... | U20: .... | V20: ....
A21: 16 | B21: Exports | C21: 수출 | D21: 7.6 | E21: 2.8 | F21: 3.6 | G21: -0.3 | H21: 25.8 | I21: -4.1 | J21: 13.1 | K21: 15 | L21: -2.9 | M21: 3.8 | N21: -5.3 | O21: 4.4 | P21: 6.1 | Q21: 4.6 | R21: 0.7 | S21: 8.9 | T21: -0.9 | U21: 0.2 | V21: -1.8
A22: 17 | B22: Goods | C22: 상품 | D22: 6.1 | E22: 2.2 | F22: 2 | G22: -4 | H22: 28.4 | I22: -8.4 | J22: 12.8 | K22: 16.9 | L22: -5.6 | M22: 6.1 | N22: -10.4 | O22: 6 | P22: 6.4 | Q22: -0.1 | R22: 0.4 | S22: 8.4 | T22: -3.9 | U22: 6.3 | V22: -4.7
A23: 18 | B23: Services | C23: 서비스 | D23: 10.9 | E23: 4.1 | F23: 6.7 | G23: 8 | H23: 20.4 | I23: 5.9 | J23: 13.8 | K23: 11.1 | L23: 2.9 | M23: -0.8 | N23: 5.6 | O23: 1.6 | P23: 5.5 | Q23: 13.8 | R23: 1.2 | S23: 9.8 | T23: 4.6 | U23: -9.7 | V23: 3.5
A24: 19 | B24: Imports | C24: 수입 | D24: 8.5 | E24: -0.9 | F24: 5.8 | G24: 6.6 | H24: 21.6 | I24: 12 | J24: 7.1 | K24: -5.8 | L24: -3.1 | M24: -1 | N24: -2.1 | O24: 3 | P24: 5.4 | Q24: 6.9 | R24: 8.4 | S24: 10.1 | T24: -0.2 | U24: 38 | V24: -29.3
A25: 20 | B25: Goods | C25: 상품 | D25: 6.7 | E25: -1.9 | F25: 5.2 | G25: -0.3 | H25: 23.5 | I25: 12.1 | J25: 4.1 | K25: -8.9 | L25: -2.9 | M25: -1.3 | N25: -4.3 | O25: 4.1 | P25: 2.8 | Q25: 7.4 | R25: 9 | S25: 8.9 | T25: -3.1 | U25: 52 | V25: -35
A26: 21 | B26: Services | C26: 서비스 | D26: 17.1 | E26: 3.8 | F26: 8.2 | G26: 47.3 | H26: 13.2 | I26: 11.4 | J26: 22.9 | K26: 9.4 | L26: -4.2 | M26: 0 | N26: 7.2 | O26: -1.3 | P26: 16.6 | Q26: 4.9 | R26: 5.9 | S26: 15.3 | T26: 11.5 | U26: -5.8 | V26: -1.2
A27: 22 | B27: Government consumption expenditures and gross investment | C27: 정부소비지출 및 총투자 | D27: -1.2 | E27: 3.5 | F27: 3.8 | G27: -2.9 | H27: 0 | I27: -3 | J27: -1.4 | K27: 1.7 | L27: 4.1 | M27: 4.1 | N27: 3.3 | O27: 5.2 | P27: 4.7 | Q27: 2.3 | R27: 3.3 | S27: 5.4 | T27: 3.3 | U27: -1 | V27: -0.1
A28: 23 | B28: Federal | C28: 연방 | D28: -3.3 | E28: 3.3 | F28: 3.8 | G28: -7.4 | H28: 3.4 | I28: -8.2 | J28: -3.7 | K28: -1.3 | L28: 9.1 | M28: 4.1 | N28: -0.1 | O28: 6.8 | P28: 3.4 | Q28: 0.8 | R28: 4.3 | S28: 8.6 | T28: 4.4 | U28: -5.6 | V28: -5.3
A29: 24 | B29: National defense | C29: 국방 | D29: -3.8 | E29: 3.7 | F29: 4 | G29: -4.1 | H29: -3 | I29: -10.4 | J29: 1.4 | K29: -4.2 | L29: 8.3 | M29: 4.6 | N29: 2.4 | O29: 7.4 | P29: 2 | Q29: -2.6 | R29: 6.9 | S29: 13.5 | T29: 4.6 | U29: -6.9 | V29: 0.9
A30: 25 | B30: Nondefense | C30: 비국방 | D30: -2.7 | E30: 2.8 | F30: 3.6 | G30: -11.5 | H30: 12.4 | I30: -5.2 | J30: -10.1 | K30: 2.5 | L30: 10.1 | M30: 3.6 | N30: -3.1 | O30: 6 | P30: 5.2 | Q30: 5.5 | R30: 0.9 | S30: 2.4 | T30: 4.1 | U30: -3.8 | V30: -13
A31: 26 | B31: State and local | C31: 주 및 지방 | D31: 0 | E31: 3.6 | F31: 3.8 | G31: -0.1 | H31: -2.1 | I31: 0.2 | J31: 0 | K31: 3.5 | L31: 1.4 | M31: 4.1 | N31: 5.4 | O31: 4.2 | P31: 5.4 | Q31: 3.2 | R31: 2.8 | S31: 3.6 | T31: 2.7 | U31: 1.9 | V31: 3.1
B32: Addenda: | C32: 부록:
A33: 27 | B33: Gross domestic income (GDI) 1 | C33: 국내총소득 | D33: 2.7 | E33: 1.7 | F33: 3 | G33: 4.5 | H33: 6.9 | I33: 1.2 | J33: -0.3 | K33: 3.6 | L33: -2.3 | M33: 3.1 | N33: 1.6 | O33: 2.4 | P33: 5.8 | Q33: 1.8 | R33: 3 | S33: 1.9 | T33: 3.7 | U33: 1 | V33: 3.8
A34: 28 | B34: Average of GDP and GDI | C34: 국내총생산과 국내총소득의 평균 | D34: 2.6 | E34: 2.3 | F34: 2.9 | G34: 3.9 | H34: 7 | I34: 0.1 | J34: 0.2 | K34: 3.2 | L34: 0.2 | M34: 3 | N34: 2.1 | O34: 3.6 | P34: 4.6 | Q34: 1.3 | R34: 3.3 | S34: 2.6 | T34: 2.8 | U34: 0.2 | V34: 3.8
A35: 29 | B35: Final sales of domestic product | C35: 국내생산 최종 판매액 | D35: 1.9 | E35: 3.4 | F35: 2.8 | G35: 0.6 | H35: 2.8 | I35: -1.3 | J35: 2.7 | K35: 3.8 | L35: 1.3 | M35: 5.2 | N35: 2.9 | O35: 3.7 | P35: 3.6 | Q35: 1.7 | R35: 2.4 | S35: 3.5 | T35: 2.8 | U35: -3.2 | V35: 7.5
A36: 30 | B36: Gross domestic purchases | C36: 국내총구매액 | D36: 2.8 | E36: 2.4 | F36: 3.1 | G36: 4.2 | H36: 7.1 | I36: 1.1 | J36: 0.3 | K36: 0.3 | L36: 2.6 | M36: 2.3 | N36: 2.8 | O36: 4.5 | P36: 3.4 | Q36: 1.2 | R36: 4.5 | S36: 3.7 | T36: 1.9 | U36: 4 | V36: -1
A37: 31 | B37: Final sales to domestic purchasers | C37: 국내 구매자에 대한 최종 판매액 | D37: 2.2 | E37: 2.9 | F37: 3.1 | G37: 1.5 | H37: 3.1 | I37: 0.9 | J37: 2.3 | K37: 1.1 | L37: 1.1 | M37: 4.5 | N37: 3.2 | O37: 3.5 | P37: 3.6 | Q37: 2 | R37: 3.4 | S37: 3.8 | T37: 2.8 | U37: 1.4 | V37: 2.4
A38: 32 | B38: Final sales to private domestic purchasers | C38: 민간 국내 구매자에 대한 최종 판매액 | D38: 2.9 | E38: 2.7 | F38: 3 | G38: 2.4 | H38: 3.7 | I38: 1.7 | J38: 3 | K38: 1 | L38: 0.5 | M38: 4.6 | N38: 3.1 | O38: 3.2 | P38: 3.4 | Q38: 2 | R38: 3.4 | S38: 3.4 | T38: 2.7 | U38: 1.9 | V38: 2.9
A39: 33 | B39: Gross national product (GNP) | C39: 국민총생산 | D39: 2.5 | E39: 2.7 | F39: 2.4 | G39: 3.3 | H39: 7.6 | I39: -1.7 | J39: 1.2 | K39: 3 | L39: 2.2 | M39: 2.4 | N39: 2.4 | O39: 4.6 | P39: 2.4 | Q39: 0.3 | R39: 3.5 | S39: 2.8 | T39: 3.1 | U39: -1.1 | V39: 3.6
A40: 34 | B40: Disposable personal income | C40: 개인 가처분소득 | D40: -5.6 | E40: 5.7 | F40: 2.9 | G40: -4.5 | H40: -4.4 | I40: -11.4 | J40: -2 | K40: 6.5 | L40: 4.1 | M40: 12.2 | N40: 4.3 | O40: 2 | P40: 3.5 | Q40: 4.2 | R40: 2.4 | S40: 1.2 | T40: 2 | U40: 2.3 | V40: 3.1
...

Sheet Table 2
A1: Table 2. Contributions to Percent Change in Real Gross Domestic Product
A2: =VLOOKUP(A1,Contents!$B:$C,2,0) -> 실질 국내총생산 백분율 변화 기여도
A3: Line | D3: 2022 | E3: 2023 | F3: 2024 | G3: Seasonally adjusted at annual rates (연율 계절조정계열) | H3: Seasonally adjusted at annual rates | I3: Seasonally adjusted at annual rates | J3: Seasonally adjusted at annual rates | K3: Seasonally adjusted at annual rates | L3: Seasonally adjusted at annual rates | M3: Seasonally adjusted at annual rates | N3: Seasonally adjusted at annual rates | O3: Seasonally adjusted at annual rates | P3: Seasonally adjusted at annual rates | Q3: Seasonally adjusted at annual rates | R3: Seasonally adjusted at annual rates | S3: Seasonally adjusted at annual rates | T3: Seasonally adjusted at annual rates | U3: Seasonally adjusted at annual rates | V3: Seasonally adjusted at annual rates
A4: Line | D4: 2022 | E4: 2023 | F4: 2024 | G4: 2021 | H4: 2021 | I4: 2022 | J4: 2022 | K4: 2022 | L4: 2022 | M4: 2023 | N4: 2023 | O4: 2023 | P4: 2023 | Q4: 2024 | R4: 2024 | S4: 2024 | T4: 2024 | U4: 2025 | V4: 2025
A5: Line | D5: 2022 | E5: 2023 | F5: 2024 | G5: Q3 | H5: Q4 | I5: Q1 | J5: Q2 | K5: Q3 | L5: Q4 | M5: Q1 | N5: Q2 | O5: Q3 | P5: Q4 | Q5: Q1 | R5: Q2 | S5: Q3 | T5: Q4 | U5: Q1 | V5: Q2
B6: Percent change at annual rate: | C6: 연율 백분율 변화:
A7: 1 | B7: Gross domestic product | C7: 국내총생산 | D7: 2.5 | E7: 2.9 | F7: 2.8 | G7: 3.3 | H7: 7 | I7: -1 | J7: 0.6 | K7: 2.9 | L7: 2.8 | M7: 2.9 | N7: 2.5 | O7: 4.7 | P7: 3.4 | Q7: 0.8 | R7: 3.6 | S7: 3.3 | T7: 1.9 | U7: -0.6 | V7: 3.8
B8: Percentage points at annual rates: | C8: 연율 퍼센트 포인트:
A9: 2 | B9: Personal consumption expenditures | C9: 개인소비지출 | D9: 2.04 | E9: 1.74 | F9: 2 | G9: 2.24 | H9: 2.63 | I9: 0.22 | J9: 2.19 | K9: 1.27 | L9: 0.53 | M9: 2.99 | N9: 1.02 | O9: 2.08 | P9: 2.04 | Q9: 1.17 | R9: 2.61 | S9: 2.66 | T9: 2.61 | U9: 0.42 | V9: 1.68
A10: 3 | B10: Goods | C10: 상품 | D10: -0.14 | E10: 0.39 | F10: 0.61 | G10: -2.19 | H10: 0.81 | I10: -0.48 | J10: -0.11 | K10: -0.58 | L10: -0.52 | M10: 1.55 | N10: 0.09 | O10: 0.95 | P10: 0.47 | Q10: -0.29 | R10: 1.14 | S10: 1.27 | T10: 1.43 | U10: 0.04 | V10: 0.47
A11: 4 | B11: Durable goods | C11: 내구재 | D11: -0.17 | E11: 0.3 | F11: 0.29 | G11: -2.3 | H11: 0.5 | I11: -0.01 | J11: -0.11 | K11: -0.12 | L11: -0.38 | M11: 1.29 | N11: 0.01 | O11: 0.48 | P11: 0.02 | Q11: -0.07 | R11: 0.56 | S11: 0.61 | T11: 0.92 | U11: -0.26 | V11: 0.17
A12: 5 | B12: Motor vehicles and parts | C12: 차량 및 부품 | D12: -0.2 | E12: 0.09 | F12: -0.01 | G12: -1.82 | H12: 0.05 | I12: 0.09 | J12: -0.12 | K12: -0.08 | L12: -0.14 | M12: 0.78 | N12: -0.24 | O12: -0.04 | P12: -0.24 | Q12: -0.18 | R12: 0.17 | S12: 0.29 | T12: 0.42 | U12: -0.31 | V12: 0.23
A13: 6 | B13: Furnishings and durable household equipment | C13: 가구 및 내구 가전제품 | D13: -0.06 | E13: 0.03 | F13: 0.09 | G13: -0.28 | H13: -0.01 | I13: -0.1 | J13: 0.02 | K13: -0.08 | L13: -0.03 | M13: 0.11 | N13: 0.01 | O13: 0.08 | P13: 0.05 | Q13: 0.04 | R13: 0.17 | S13: 0.15 | T13: 0.11 | U13: 0.04 | V13: -0.03
A14: 7 | B14: Recreational goods and vehicles | C14: 레저용품 및 차량 | D14: 0.05 | E14: 0.17 | F14: 0.16 | G14: -0.23 | H14: 0.32 | I14: 0.04 | J14: -0.09 | K14: 0.05 | L14: -0.09 | M14: 0.35 | N14: 0.23 | O14: 0.37 | P14: 0.15 | Q14: -0.02 | R14: 0.2 | S14: 0.14 | T14: 0.33 | U14: 0.02 | V14: -0.06
A15: 8 | B15: Other durable goods | C15: 기타 내구재 | D15: 0.04 | E15: 0.01 | F15: 0.06 | G15: 0.03 | H15: 0.14 | I15: -0.03 | J15: 0.08 | K15: -0.02 | L15: -0.12 | M15: 0.05 | N15: 0.01 | O15: 0.07 | P15: 0.06 | Q15: 0.09 | R15: 0.03 | S15: 0.03 | T15: 0.06 | U15: -0.01 | V15: 0.03
A16: 9 | B16: Nondurable goods | C16: 비내구재 | D16: 0.03 | E16: 0.09 | F16: 0.32 | G16: 0.11 | H16: 0.3 | I16: -0.47 | J16: 0 | K16: -0.46 | L16: -0.14 | M16: 0.26 | N16: 0.09 | O16: 0.47 | P16: 0.46 | Q16: -0.22 | R16: 0.59 | S16: 0.66 | T16: 0.52 | U16: 0.3 | V16: 0.3
A17: 10 | B17: Food and beverages purchased for off-premises consumption | C17: 식료품 및 판매용 주류 | D17: -0.12 | E17: -0.1 | F17: 0.08 | G17: -0.03 | H17: -0.02 | I17: -0.18 | J17: -0.22 | K17: -0.3 | L17: -0.14 | M17: -0.13 | N17: 0 | O17: 0.08 | P17: 0.05 | Q17: -0.01 | R17: 0.21 | S17: 0.13 | T17: 0.11 | U17: 0.05 | V17: 0.01
A18: 11 | B18: Clothing and footwear | C18: 의류 및 신발 | D18: 0 | E18: 0.02 | F18: 0.05 | G18: -0.11 | H18: -0.01 | I18: -0.21 | J18: 0.18 | K18: -0.03 | L18: -0.03 | M18: 0.04 | N18: -0.05 | O18: 0.15 | P18: 0.05 | Q18: -0.01 | R18: 0.05 | S18: 0.05 | T18: 0.13 | U18: 0.14 | V18: 0.1
A19: 12 | B19: Gasoline and other energy goods | C19: 휘발율 및 기타 에너지 제품 | D19: 0.01 | E19: 0.01 | F19: 0 | G19: 0.17 | H19: 0.05 | I19: -0.07 | J19: -0.14 | K19: -0.1 | L19: 0.03 | M19: 0.12 | N19: 0.01 | O19: -0.1 | P19: 0.09 | Q19: -0.13 | R19: 0.12 | S19: 0.06 | T19: -0.03 | U19: 0.04 | V19: -0.04
A20: 13 | B20: Other nondurable goods | C20: 기타 비내구재 | D20: 0.13 | E20: 0.15 | F20: 0.19 | G20: 0.08 | H20: 0.28 | I20: -0.01 | J20: 0.17 | K20: -0.03 | L20: 0 | M20: 0.23 | N20: 0.12 | O20: 0.35 | P20: 0.27 | Q20: -0.07 | R20: 0.2 | S20: 0.42 | T20: 0.31 | U20: 0.07 | V20: 0.23
... A67: 60 | B67: Gross investment | C67: 총투자 | D67: -0.07 | E67: 0.16 | F67: 0.15 | G67: -0.17 | H67: -0.16 | I67: 0.04 | J67: -0.13 | K67: 0.1 | L67: 0.02 | M67: 0.19 | N67: 0.33 | O67: 0.18 | P67: 0.29 | Q67: 0.04 | R67: 0.07 | S67: 0.13 | T67: 0.12 | U67: 0.05 | V67: 0.13
A69: Source: U.S. Bureau of Economic Analysis

Sheet Table 3
A1: Table 3. Gross Domestic Product: Level and Change from Preceding Period
A2: =VLOOKUP(A1,Contents!$B:$C,2,0) -> 국내총생산: 전기대비 수준 및 변화
A3: Line | D3: Billions of dollars (십억 달러) | E3: Billions of dollars | F3: Billions of dollars | G3: Billions of dollars | H3: Billions of dollars | I3: Billions of dollars | J3: Billions of chained (2017) dollars (2017년 연쇄 십억 달러) | K3: Billions of chained (2017) dollars | L3: Billions of chained (2017) dollars | M3: Billions of chained (2017) dollars | N3: Billions of chained (2017) dollars | O3: Billions of chained (2017) dollars | P3: Billions of chained (2017) dollars | Q3: Billions of chained (2017) dollars | R3: Billions of chained (2017) dollars
A4: Line | D4: 2024 | E4: Seasonally adjusted at annual rates (연율 계절조정계열) | F4: Seasonally adjusted at annual rates | G4: Seasonally adjusted at annual rates | H4: Seasonally adjusted at annual rates | I4: Seasonally adjusted at annual rates | J4: 2024 | K4: Seasonally adjusted at annual rates (연율 계절조정계열) | L4: Seasonally adjusted at annual rates | M4: Seasonally adjusted at annual rates | N4: Seasonally adjusted at annual rates | O4: Seasonally adjusted at annual rates | P4: Change from preceding period (전기대비 변화) | Q4: Change from preceding period | R4: Change from preceding period
A5: Line | D5: 2024 | E5: 2024 | F5: 2024 | G5: 2024 | H5: 2025 | I5: 2025 | J5: 2024 | K5: 2024 | L5: 2024 | M5: 2024 | N5: 2025 | O5: 2025 | P5: 2024 | Q5: 2025 | R5: 2025
A6: Line | D6: 2024 | E6: Q2 | F6: Q3 | G6: Q4 | H6: Q1 | I6: Q2 | J6: 2024 | K6: Q2 | L6: Q3 | M6: Q4 | N6: Q1 | O6: Q2 | P6: 2024 | Q6: Q1 | R6: Q2
A7: 1 | B7: Gross domestic product (GDP) | C7: 국내총생산 | D7: 29298 | E7: 29147 | F7: 29511.7 | G7: 29825.2 | H7: 30042.1 | I7: 30485.7 | J7: 23358.4 | K7: 23286.5 | L7: 23478.6 | M7: 23586.5 | N7: 23548.2 | O7: 23771 | P7: 634.7 | Q7: -38.3 | R7: 222.8
A8: 2 | B8: Personal consumption expenditures | C8: 개인소비지출 | D8: 19896 | E8: 19756.1 | F8: 20032.8 | G8: 20351.3 | H8: 20555 | I8: 20789.9 | J8: 16088.5 | K8: 16009.6 | L8: 16165.8 | M8: 16320.9 | N8: 16345.8 | O8: 16445.7 | P8: 460.7 | Q8: 24.9 | R8: 99.9
A9: 3 | B9: Goods | C9: 상품 | D9: 6261.5 | E9: 6224.4 | F9: 6291.6 | G9: 6393.9 | H9: 6432.3 | I9: 6471.1 | J9: 5466.8 | K9: 5421 | L9: 5501.9 | M9: 5594.7 | N9: 5597.4 | O9: 5628.4 | P9: 150.5 | Q9: 2.7 | R9: 30.9
A10: 4 | B10: Durable goods | C10: 내구재 | D10: 2178.1 | E10: 2151.9 | F10: 2183.9 | G10: 2250.2 | H10: 2235.8 | I10: 2265.7 | J10: 2059.6 | K10: 2031.8 | L10: 2074 | M10: 2138.4 | N10: 2120.1 | O10: 2132.2 | P10: 76.8 | Q10: -18.3 | R10: 12.1
A11: 5 | B11: Motor vehicles and parts | C11: 차량 및 부품 | D11: 732.8 | E11: 716.6 | F11: 731.6 | G11: 770.2 | H11: 755.9 | I11: 770.5 | J11: 585 | K11: 572.9 | L11: 589.7 | M11: 614.3 | N11: 596 | O11: 609.9 | P11: -2.4 | Q11: -18.3 | R11: 13.9
A12: 6 | B12: Furnishings and durable household equipment | C12: 가구 및 내구 가전제품 | D12: 490 | E12: 485 | F12: 493.6 | G12: 501.8 | H12: 503.1 | I12: 507.3 | J12: 440.9 | K12: 436.6 | L12: 446.8 | M12: 454.4 | N12: 457.1 | O12: 454.8 | P12: 22.4 | Q12: 2.7 | R12: -2.4
A13: 7 | B13: Recreational goods and vehicles | C13: 레저용품 및 차량 | D13: 663.7 | E13: 660.4 | F13: 666.5 | G13: 680.3 | H13: 681.7 | I13: 689.9 | J13: 771.3 | K13: 762.5 | L13: 774.2 | M13: 802.4 | N13: 804 | O13: 798.9 | P13: 50.8 | Q13: 1.6 | R13: -5.1
A14: 8 | B14: Other durable goods | C14: 기타 내구재 | D14: 291.6 | E14: 289.8 | F14: 292.3 | G14: 298 | H14: 295.1 | I14: 298.1 | J14: 300.2 | K14: 298.4 | L14: 300.6 | M14: 305.3 | N14: 304.7 | O14: 307 | P14: 16 | Q14: -0.6 | R14: 2.3
A15: 9 | B15: Nondurable goods | C15: 비내구재 | D15: 4083.4 | E15: 4072.5 | F15: 4107.6 | G15: 4143.7 | H15: 4196.5 | I15: 4205.4 | J15: 3417.3 | K15: 3398 | L15: 3438.2 | M15: 3470.2 | N15: 3488.9 | O15: 3507.9 | P15: 76 | Q15: 18.7 | R15: 19
A16: 10 | B16: Food and beverages purchased for off-premises consumption | C16: 식료품 및 판매용 주류 | D16: 1479.6 | E16: 1472 | F16: 1486.2 | G16: 1503 | H16: 1517.8 | I16: 1521.8 | J16: 1165.4 | K16: 1163.1 | L16: 1170.7 | M16: 1176.9 | N16: 1180 | O16: 1180.6 | P16: 17.8 | Q16: 3.2 | R16: 0.5
A17: 11 | B17: Clothing and footwear | C17: 의류 및 신발 | D17: 530.2 | E17: 528.9 | F17: 532.2 | G17: 540.8 | H17: 547.3 | I17: 556 | J17: 509.7 | K17: 506.6 | L17: 509.8 | M17: 519.4 | N17: 529.3 | O17: 536.8 | P17: 12.8 | Q17: 9.9 | R17: 7.5
A18: 12 | B18: Gasoline and other energy goods | C18: 휘발율 및 기타 에너지 제품 | D18: 440.5 | E18: 454.5 | F18: 436.4 | G18: 427.2 | H18: 438.7 | I18: 411 | J18: 316.1 | K18: 316.4 | L18: 319.8 | M18: 318.1 | N18: 320.4 | O18: 318.1 | P18: 0.4 | Q18: 2.3 | R18: -2.3
... A66: 60 | B66: Gross investment | C66: 총투자 | D66: 598.4 | E66: 590.5 | F66: 604 | G66: 615.1 | H66: 622.8 | I66: 636.2 | J66: 445.2 | K66: 440.9 | L66: 448.1 | M66: 454.7 | N66: 457.4 | O66: 464.7 | P66: 31 | Q66: 2.6 | R66: 7.3
A67: 61 | B67: Residual | C67: 오차 | D67: .... | E67: .... | F67: .... | G67: .... | H67: .... | I67: .... | J67: -122.2 | K67: -113.5 | L67: -122.8 | M67: -139.5 | N67: -130.2 | O67: -207.5 | P67: .... | Q67: .... | R67: ....
B68: Addenda: | C68: 부록:
A69: 62 | B69: Gross domestic income (GDI) 1 | C69: 국내총소득 | D69: 29001.7 | E69: 28861.1 | F69: 29117.3 | G69: 29560 | H69: 29895.7 | I69: 30335.8 | J69: 23122.2 | K69: 23058.1 | L69: 23164.8 | M69: 23376.9 | N69: 23433.4 | O69: 23654.1 | P69: 664.7 | Q69: 56.6 | R69: 220.7
A70: 63 | B70: Average of GDP and GDI | C70: 국내총생산과 국내총소득의 평균 | D70: 29149.9 | E70: 29004.1 | F70: 29314.5 | G70: 29692.6 | H70: 29968.9 | I70: 30410.8 | J70: 23240.3 | K70: 23172.3 | L70: 23321.7 | M70: 23481.7 | N70: 23490.8 | O70: 23712.5 | P70: 649.7 | Q70: 9.1 | R70: 221.7
A71: 64 | B71: Final sales of domestic product | C71: 국내생산의 최종 판매액 | D71: 29244.5 | E71: 29049.4 | F71: 29428.4 | G71: 29807.4 | H71: 29829.9 | I71: 30531.5 | J71: 23276.9 | K71: 23171.8 | L71: 23369.6 | M71: 23530.8 | N71: 23340.5 | O71: 23765.6 | P71: 631.5 | Q71: -190.3 | R71: 425.1
A72: 65 | B72: Gross domestic purchases | C72: 국내총구매액 | D72: 30196.5 | E72: 30041.4 | F72: 30450 | G72: 30763.8 | H72: 31306.7 | I72: 31385.5 | J72: 24371.1 | K72: 24300.1 | L72: 24519.6 | M72: 24633 | N72: 24874 | O72: 24812.9 | P72: 733 | Q72: 241 | R72: -61.2
A73: 66 | B73: Final sales to domestic purchasers | C73: 국내 구매자에 대한 최종 판매액 | D73: 30142.9 | E73: 29943.7 | F73: 30366.7 | G73: 30746.1 | H73: 31094.5 | I73: 31431.3 | J73: 24289.5 | K73: 24184.8 | L73: 24410.1 | M73: 24577.4 | N73: 24664 | O73: 24808.4 | P73: 729.7 | Q73: 86.6 | R73: 144.4
A74: 67 | B74: Final sales to private domestic purchasers | C74: 민간 국내 구매자에 대한 최종 판매액 | D74: 25101.8 | E74: 24948.6 | F74: 25279.8 | G74: 25595.3 | H74: 25899 | I74: 26194.3 | J74: 20352.5 | K74: 20274.3 | L74: 20446.9 | M74: 20581.6 | N74: 20679 | O74: 20825.4 | P74: 584.3 | Q74: 97.3 | R74: 146.4
A75: 68 | B75: GDP | C75: 국내총생산 | D75: 29298 | E75: 29147 | F75: 29511.7 | G75: 29825.2 | H75: 30042.1 | I75: 30485.7 | J75: 23358.4 | K75: 23286.5 | L75: 23478.6 | M75: 23586.5 | N75: 23548.2 | O75: 23771 | P75: 634.7 | Q75: -38.3 | R75: 222.8
A76: 69 | B76: Plus: Income receipts from the rest of the world | C76: 합산: 해외로부터의 소득 수입 | D76: 1485.6 | E76: 1498.6 | F76: 1444.9 | G76: 1546.5 | H76: 1454.8 | I76: 1525.8 | J76: 1252.3 | K76: 1266.3 | L76: 1215.1 | M76: 1293.2 | N76: 1207.3 | O76: 1260 | P76: 45.4 | Q76: -85.9 | R76: 52.7
A77: 70 | B77: Less: Income payments to the rest of the world | C77: 차감: 해외로부터의 소득 지출 | D77: 1493.9 | E77: 1510.6 | F77: 1497.1 | G77: 1507.4 | H77: 1452.7 | I77: 1544.2 | J77: 1259.6 | K77: 1276.7 | L77: 1259.2 | M77: 1260.8 | N77: 1205.8 | O77: 1275.4 | P77: 126.6 | Q77: -54.9 | R77: 69.6
A78: 71 | B78: Equals: Gross national product | C78: 동: 국민총생산 | D78: 29289.7 | E78: 29135 | F78: 29459.5 | G78: 29864.3 | H78: 30044.2 | I78: 30467.4 | J78: 23368.7 | K78: 23293.7 | L78: 23454 | M78: 23634.6 | N78: 23566.9 | O78: 23773.9 | P78: 558.4 | Q78: -67.7 | R78: 207
A79: 72 | B79: Net domestic product | C79: 순국내생산 | D79: 24501.3 | E79: 24384.9 | F79: 24677.5 | G79: 24929.4 | H79: 25098.9 | I79: 25490.9 | J79: 19432.4 | K79: 19375.3 | L79: 19537.1 | M79: 19615.9 | N79: 19547.8 | O79: 19733.8 | P79: 518 | Q79: -68.1 | R79: 186
A81: 1. Real gross domestic income is gross domestic income deflated by the implicit price deflator for gross domestic product.
A82: 실질 국내총소득은 GDP 디플레이터를 적용한 국내총소득.
A84: Note. Users are cautioned that particularly for components that exhibit rapid change in prices relative to other prices in the economy, the chained-dollar estimates should not be used to measure the component's relative importance or its contribution to the growth rate of more aggregate series. For accurate estimates of the contributions to percent changes in real gross domestic product, use table 2.
A85: 참고. 특히 경제 내 다른 가격에 비해 가격이 빠르게 변동하는 요소의 경우, 연쇄 달러 추정치를 사용하여 해당 요소의 상대적 중요도나 더 종합적인 시계열 성장률에 대한 기여도를 측정해서는 안 됩니다. 실질 국내총생산 백분율 변화에 대한 기여도를 정확히 추정하려면 표 2를 사용하십시오.
A87: Source: U.S. Bureau of Economic Analysis

Sheet Table 4
A1: Table 4. Price Indexes for Gross Domestic Product and Related Measures: Percent Change from Preceding Period
A2: =VLOOKUP(A1,Contents!$B:$C,2,0) -> 국내총생산 및 관련 지표에 대한 물가지수: 전기대비 백분율 변화
A3: Line | D3: 2022 | E3: 2023 | F3: 2024 | G3: Seasonally adjusted at annual rates (연율 계절조정계열) | H3: Seasonally adjusted at annual rates | I3: Seasonally adjusted at annual rates | J3: Seasonally adjusted at annual rates | K3: Seasonally adjusted at annual rates | L3: Seasonally adjusted at annual rates | M3: Seasonally adjusted at annual rates | N3: Seasonally adjusted at annual rates | O3: Seasonally adjusted at annual rates | P3: Seasonally adjusted at annual rates | Q3: Seasonally adjusted at annual rates | R3: Seasonally adjusted at annual rates | S3: Seasonally adjusted at annual rates | T3: Seasonally adjusted at annual rates | U3: Seasonally adjusted at annual rates | V3: Seasonally adjusted at annual rates
A4: Line | D4: 2022 | E4: 2023 | F4: 2024 | G4: 2021 | H4: 2021 | I4: 2022 | J4: 2022 | K4: 2022 | L4: 2022 | M4: 2023 | N4: 2023 | O4: 2023 | P4: 2023 | Q4: 2024 | R4: 2024 | S4: 2024 | T4: 2024 | U4: 2025 | V4: 2025
A5: Line | D5: 2022 | E5: 2023 | F5: 2024 | G5: Q3 | H5: Q4 | I5: Q1 | J5: Q2 | K5: Q3 | L5: Q4 | M5: Q1 | N5: Q2 | O5: Q3 | P5: Q4 | Q5: Q1 | R5: Q2 | S5: Q3 | T5: Q4 | U5: Q1 | V5: Q2
A6: 1 | B6: Gross domestic product (GDP) | C6: 국내총생산 | D6: 7.1 | E6: 3.7 | F6: 2.5 | G6: 6.3 | H6: 7 | I6: 8.4 | J6: 9.3 | K6: 4.4 | L6: 3.9 | M6: 3.8 | N6: 2.1 | O6: 3.3 | P6: 1.6 | Q6: 3.1 | R6: 2.6 | S6: 1.8 | T6: 2.4 | U6: 3.6 | V6: 2.1
A7: 2 | B7: Personal consumption expenditures | C7: 개인소비지출 | D7: 6.5 | E7: 3.8 | F7: 2.6 | G7: 5.6 | H7: 6.8 | I7: 7.7 | J7: 7.5 | K7: 4.7 | L7: 4.1 | M7: 3.9 | N7: 3 | O7: 2.7 | P7: 1.8 | Q7: 3.6 | R7: 2.6 | S7: 1.7 | T7: 2.5 | U7: 3.4 | V7: 2.1
A8: 3 | B8: Goods | C8: 상품 | D8: 8.6 | E8: 1.2 | F8: -0.4 | G8: 7.2 | H8: 11 | I8: 12 | J8: 10.2 | K8: 2.3 | L8: 0.6 | M8: 0.8 | N8: 0.3 | O8: 0.3 | P8: -1.2 | Q8: -0.5 | R8: 0.4 | S8: -1.6 | T8: -0.2 | U8: 2.2 | V8: 0.2
A9: 4 | B9: Durable goods | C9: 내구재 | D9: 6.5 | E9: -0.7 | F9: -2.1 | G9: 9.4 | H9: 9.7 | I9: 9.1 | J9: 1.2 | K9: 2.7 | L9: -1.3 | M9: -0.3 | N9: -0.2 | O9: -4.5 | P9: -3.2 | Q9: -0.3 | R9: -2.7 | S9: -2.3 | T9: -0.3 | U9: 0.9 | V9: 3.1
A10: 5 | B10: Nondurable goods | C10: 비내구재 | D10: 9.9 | E10: 2.3 | F10: 0.5 | G10: 5.9 | H10: 11.8 | I10: 13.7 | J10: 15.4 | K10: 2.1 | L10: 1.7 | M10: 1.4 | N10: 0.6 | O10: 3.1 | P10: -0.1 | Q10: -0.6 | R10: 2 | S10: -1.3 | T10: -0.2 | U10: 3 | V10: -1.3
A11: 6 | B11: Services | C11: 서비스 | D11: 5.5 | E11: 5.1 | F11: 4.1 | G11: 4.7 | H11: 4.8 | I11: 5.6 | J11: 6.2 | K11: 5.9 | L11: 5.9 | M11: 5.5 | N11: 4.3 | O11: 3.9 | P11: 3.3 | Q11: 5.6 | R11: 3.6 | S11: 3.3 | T11: 3.8 | U11: 4 | V11: 3
A12: 7 | B12: Gross private domestic investment | C12: 민간국내총투자 | D12: 7.6 | E12: 2.8 | F12: 1.6 | G12: 5.9 | H12: 8.1 | I12: 9.5 | J12: 9.2 | K12: 6.9 | L12: 2.8 | M12: 2.8 | N12: -0.5 | O12: 1.1 | P12: 2.1 | Q12: 0.9 | R12: 2.6 | S12: 2.4 | T12: 2 | U12: 0.7 | V12: 0.3
A13: 8 | B13: Fixed investment | C13: 고정투자 | D13: 7.8 | E13: 3 | F13: 1.7 | G13: 6.6 | H13: 8.2 | I13: 9.2 | J13: 9.8 | K13: 6.9 | L13: 3.5 | M13: 2.9 | N13: -0.4 | O13: 1.3 | P13: 2.3 | Q13: 0.7 | R13: 2.7 | S13: 2.7 | T13: 1.8 | U13: 0.7 | V13: 0.2
A14: 9 | B14: Nonresidential | C14: 비주거용 | D14: 6 | E14: 3.2 | F14: 1.4 | G14: 3.9 | H14: 6.9 | I14: 6.4 | J14: 8.2 | K14: 6.8 | L14: 3.1 | M14: 4.8 | N14: -0.2 | O14: 0.1 | P14: 1.8 | Q14: 0.8 | R14: 2.5 | S14: 2.2 | T14: 1.5 | U14: -0.2 | V14: -0.4
A15: 10 | B15: Structures | C15: 구조물 | D15: 16.3 | E15: 5.2 | F15: -0.2 | G15: 8.9 | H15: 24.2 | I15: 17.2 | J15: 18.3 | K15: 16.6 | L15: 8.2 | M15: 4.8 | N15: -1 | O15: -3.9 | P15: 3.5 | Q15: -2.4 | R15: 1.8 | S15: -0.7 | T15: 0.3 | U15: 1.1 | V15: -1
A16: 11 | B16: Equipment | C16: 장비 | D16: 6.2 | E16: 4.5 | F16: 2.1 | G16: 5.4 | H16: 5.3 | I16: 7.5 | J16: 8.9 | K16: 6.2 | L16: 5.8 | M16: 6.9 | N16: 0.3 | O16: 2.6 | P16: 1 | Q16: 3.6 | R16: 1.9 | S16: 2.1 | T16: 0.8 | U16: 0.6 | V16: 3.3
A17: 12 | B17: Intellectual property products | C17: 지식재산 | D17: 0.9 | E17: 0.8 | F17: 1.7 | G17: 0.1 | H17: 0.5 | I17: 0.5 | J17: 2.7 | K17: 2.4 | L17: -2.1 | M17: 2.9 | N17: -0.3 | O17: 0.2 | P17: 1.3 | Q17: 0.2 | R17: 3.4 | S17: 4.1 | T17: 2.9 | U17: -1.6 | V17: -3.4
A18: 13 | B18: Residential | C18: 주거용 | D18: 13.3 | E18: 2.6 | F18: 2.9 | G18: 14.7 | H18: 12 | I18: 17.4 | J18: 14.7 | K18: 7.3 | L18: 5.1 | M18: -3.5 | N18: -1 | O18: 5.8 | P18: 4.3 | Q18: 0.6 | R18: 3.5 | S18: 4.2 | T18: 2.5 | U18: 3.9 | V18: 2.2
A19: 14 | B19: Change in private inventories | C19: 민간재고 변화 | D19: .... | E19: .... | F19: .... | G19: .... | H19: .... | I19: .... | J19: .... | K19: .... | L19: .... | M19: .... | N19: .... | O19: .... | P19: .... | Q19: .... | R19: .... | S19: .... | T19: .... | U19: .... | V19: ....
A20: 15 | B20: Net exports of goods and services | C20: 상품 및 서비스 순수출 | D20: .... | E20: .... | F20: .... | G20: .... | H20: .... | I20: .... | J20: .... | K20: .... | L20: .... | M20: .... | N20: .... | O20: .... | P20: .... | Q20: .... | R20: .... | S20: .... | T20: .... | U20: .... | V20: ....
A21: 16 | B21: Exports | C21: 수출 | D21: 9.8 | E21: -1.5 | F21: 0.9 | G21: 9.8 | H21: 6.5 | I21: 18 | J21: 20.2 | K21: -9 | L21: -6.1 | M21: -0.1 | N21: -3.6 | O21: 4.4 | P21: -2.3 | Q21: 2.5 | R21: 3 | S21: -0.6 | T21: -0.1 | U21: 5.5 | V21: -1.3
A22: 17 | B22: Goods | C22: 상품 | D22: 11.7 | E22: -4.3 | F22: -0.4 | G22: 11.3 | H22: 7.1 | I22: 23.3 | J22: 27 | K22: -14 | L22: -11.5 | M22: -3 | N22: -6.4 | O22: 4.6 | P22: -3.7 | Q22: 0.8 | R22: 2.6 | S22: -3 | T22: -1.7 | U22: 6.2 | V22: -1.8
A23: 18 | B23: Services | C23: 서비스 | D23: 6.1 | E23: 4.3 | F23: 3.4 | G23: 6.7 | H23: 5.3 | I23: 7.3 | J23: 6.5 | K23: 2.8 | L23: 6.4 | M23: 6 | N23: 2.1 | O23: 4 | P23: 0.4 | Q23: 5.6 | R23: 3.7 | S23: 3.8 | T23: 2.6 | U23: 4.4 | V23: -0.5
A24: 19 | B24: Imports | C24: 수입 | D24: 7.2 | E24: -2 | F24: 0.8 | G24: 6.2 | H24: 6.5 | I24: 13.4 | J24: 11.2 | K24: -4.4 | L24: -4.5 | M24: -1.8 | N24: -4.7 | O24: 0.6 | P24: -0.1 | Q24: 2.4 | R24: 1.9 | S24: 0.8 | T24: -0.6 | U24: 1.8 | V24: -1.2
A25: 20 | B25: Goods | C25: 상품 | D25: 7.5 | E25: -3.2 | F25: 0.5 | G25: 6.1 | H25: 7.1 | I25: 15.5 | J25: 11.8 | K25: -6.5 | L25: -7 | M25: -2.8 | N25: -5.8 | O25: 0.4 | P25: 0.2 | Q25: 1.6 | R25: 1.9 | S25: 0.1 | T25: -0.3 | U25: 1.6 | V25: -3.1
A26: 21 | B26: Services | C26: 서비스 | D26: 6 | E26: 3.1 | F26: 1.9 | G26: 7.1 | H26: 4.1 | I26: 4.2 | J26: 8.4 | K26: 5.8 | L26: 6.9 | M26: 2.2 | N26: -0.1 | O26: 1.2 | P26: -1.3 | Q26: 5.4 | R26: 2.3 | S26: 3.2 | T26: -1.6 | U26: 2.7 | V26: 6.4
A27: 22 | B27: Government consumption expenditures and gross investment | C27: 정부소비지출 및 총투자 | D27: 7.3 | E27: 2.8 | F27: 2.4 | G27: 7.6 | H27: 6.4 | I27: 8.1 | J27: 11.5 | K27: 2.6 | L27: 3.4 | M27: 2 | N27: -0.4 | O27: 4.9 | P27: 1.4 | Q27: 3.6 | R27: 1.8 | S27: 2 | T27: 1.7 | U27: 4.5 | V27: 3.3
A28: 23 | B28: Federal | C28: 연방 | D28: 5.8 | E28: 4.2 | F28: 3.2 | G28: 4.7 | H28: 5.1 | I28: 6.5 | J28: 7.5 | K28: 5.5 | L28: 4 | M28: 4.5 | N28: 2.7 | O28: 3.8 | P28: 2.8 | Q28: 4.2 | R28: 3.1 | S28: 2.4 | T28: 2.4 | U28: 5.9 | V28: 7
A29: 24 | B29: National defense | C29: 국방 | D29: 6.3 | E29: 4.1 | F29: 3.7 | G29: 4.7 | H29: 5.3 | I29: 7.5 | J29: 9.5 | K29: 4.2 | L29: 3.7 | M29: 3.6 | N29: 3 | O29: 5.1 | P29: 4.3 | Q29: 4.8 | R29: 2.7 | S29: 2.1 | T29: 2.2 | U29: 5.1 | V29: 6.1
A30: 25 | B30: Nondefense | C30: 비국방 | D30: 5.1 | E30: 4.2 | F30: 2.6 | G30: 4.8 | H30: 4.7 | I30: 5.1 | J30: 4.9 | K30: 7.4 | L30: 4.4 | M30: 5.8 | N30: 2.2 | O30: 2.2 | P30: 0.9 | Q30: 3.4 | R30: 3.5 | S30: 2.9 | T30: 2.6 | U30: 6.9 | V30: 8.2
A31: 26 | B31: State and local | C31: 주 및 지방 | D31: 8.2 | E31: 1.9 | F31: 1.9 | G31: 9.4 | H31: 7.2 | I31: 9.1 | J31: 13.9 | K31: 0.9 | L31: 3.1 | M31: 0.6 | N31: -2.2 | O31: 5.6 | P31: 0.5 | Q31: 3.2 | R31: 1.1 | S31: 1.8 | T31: 1.3 | U31: 3.8 | V31: 1.2
B32: Addenda: | C32: 부록:
A33: 27 | B33: Final sales of domestic product | C33: 국내생산의 최종 판매액 | D33: 7.2 | E33: 3.7 | F33: 2.5 | G33: 6.5 | H33: 7 | I33: 8.4 | J33: 9.5 | K33: 4.4 | L33: 4 | M33: 3.8 | N33: 2.1 | O33: 3.3 | P33: 1.6 | Q33: 3.1 | R33: 2.6 | S33: 1.8 | T33: 2.4 | U33: 3.6 | V33: 2.1
A34: 28 | B34: Gross domestic purchases | C34: 국내총구매액 | D34: 6.8 | E34: 3.4 | F34: 2.4 | G34: 6 | H34: 7 | I34: 8.1 | J34: 8.5 | K34: 4.7 | L34: 3.8 | M34: 3.4 | N34: 1.8 | O34: 2.8 | P34: 1.8 | Q34: 3.1 | R34: 2.5 | S34: 1.9 | T34: 2.3 | U34: 3.1 | V34: 2
A35: 29 | B35: Final sales to domestic purchasers | C35: 국내 구매자에 대한 최종 판매액 | D35: 6.9 | E35: 3.5 | F35: 2.4 | G35: 6.1 | H35: 7 | I35: 8.1 | J35: 8.6 | K35: 4.7 | L35: 3.9 | M35: 3.4 | N35: 1.8 | O35: 2.8 | P35: 1.8 | Q35: 3.1 | R35: 2.5 | S35: 1.9 | T35: 2.3 | U35: 3.2 | V35: 2
A36: 30 | B36: Final sales to private domestic purchasers | C36: 민간 국내 구매자에 대한 최종 판매액 | D36: 6.8 | E36: 3.6 | F36: 2.4 | G36: 5.8 | H36: 7.1 | I36: 8 | J36: 8 | K36: 5.1 | L36: 4 | M36: 3.7 | N36: 2.3 | O36: 2.4 | P36: 1.9 | Q36: 3 | R36: 2.6 | S36: 1.9 | T36: 2.4 | U36: 2.9 | V36: 1.7
A37: 31 | B37: Gross national product (GNP) | C37: 국민총생산 | D37: 7.1 | E37: 3.7 | F37: 2.5 | G37: 6.3 | H37: 7 | I37: 8.4 | J37: 9.3 | K37: 4.4 | L37: 3.9 | M37: 3.8 | N37: 2.1 | O37: 3.3 | P37: 1.6 | Q37: 3.1 | R37: 2.6 | S37: 1.8 | T37: 2.4 | U37: 3.6 | V37: 2.1
A38: 32 | B38: GDP excluding food and energy 1 | C38: 국내총생산; 식량 및 에너지 제외 | D38: 6.3 | E38: 4.1 | F38: 2.8 | G38: 5.8 | H38: 6.3 | I38: 6.9 | J38: 7.4 | K38: 5.3 | L38: 4.3 | M38: 4.5 | N38: 2.7 | O38: 3 | P38: 2.4 | Q38: 3.2 | R38: 2.8 | S38: 2.5 | T38: 2.6 | U38: 3.5 | V38: 2.3
A39: 33 | B39: Gross domestic purchases excluding food and energy 1 | C39: 국내총구매액; 식량 및 에너지 제외 | D39: 6.2 | E39: 3.7 | F39: 2.6 | G39: 5.6 | H39: 6.1 | I39: 7.1 | J39: 7 | K39: 5 | L39: 4.2 | M39: 3.8 | N39: 2.3 | O39: 2.6 | P39: 2 | Q39: 3.3 | R39: 2.6 | S39: 2.3 | T39: 2.4 | U39: 3 | V39: 2.3
A40: 34 | B40: PCE excluding food and energy 1 | C40: 개인소비지출; 식량 및 에너지 제외 | D40: 5.3 | E40: 4.2 | F40: 2.9 | G40: 4.8 | H40: 5.3 | I40: 6.1 | J40: 4.9 | K40: 5.1 | L40: 4.7 | M40: 4.7 | N40: 4 | O40: 2.4 | P40: 2.1 | Q40: 4 | R40: 2.9 | S40: 2.4 | T40: 2.7 | U40: 3.3 | V40: 2.6
...

Sheet Table 5
A1: Table 5. Real Gross Domestic Product: Annual Percent Change
A2: =VLOOKUP(A1,Contents!$B:$C,2,0) -> 실질 국내총생산: 전년대비 백분율 변화
A3: Line | D3: Percent change from preceding year (전년대비 백분율 변화) | E3: Percent change from preceding year | F3: Percent change from preceding year | G3: Percent change from preceding year | H3: Percent change from preceding year | I3: Percent change from preceding year | J3: Percent change from preceding year | K3: Percent change from preceding year | L3: Percent change from fourth quarter to fourth quarter one year ago 전년 4분기 대비 백분율 변화 | M3: Percent change from fourth quarter to fourth quarter one year ago | N3: Percent change from fourth quarter to fourth quarter one year ago | O3: Percent change from fourth quarter to fourth quarter one year ago | P3: Percent change from fourth quarter to fourth quarter one year ago | Q3: Percent change from fourth quarter to fourth quarter one year ago | R3: Percent change from fourth quarter to fourth quarter one year ago | S3: Percent change from fourth quarter to fourth quarter one year ago
A4: Line | D4: 2017 | E4: 2018 | F4: 2019 | G4: 2020 | H4: 2021 | I4: 2022 | J4: 2023 | K4: 2024 | L4: 2017 | M4: 2018 | N4: 2019 | O4: 2020 | P4: 2021 | Q4: 2022 | R4: 2023 | S4: 2024
A5: 1 | B5: Gross domestic product (GDP) | C5: 국내총생산 | D5: 2.5 | E5: 3 | F5: 2.6 | G5: -2.1 | H5: 6.2 | I5: 2.5 | J5: 2.9 | K5: 2.8 | L5: 3 | M5: 2.1 | N5: 3.4 | O5: -0.9 | P5: 5.8 | Q5: 1.3 | R5: 3.4 | S5: 2.4
A6: 2 | B6: Personal consumption expenditures (PCE) | C6: 개인소비지출 | D6: 2.6 | E6: 2.7 | F6: 2.1 | G6: -2.5 | H6: 8.8 | I6: 3 | J6: 2.6 | K6: 2.9 | L6: 3.1 | M6: 2 | N6: 2.8 | O6: -0.9 | P6: 7.8 | Q6: 1.6 | R6: 3 | S6: 3.4
A7: 3 | B7: Goods | C7: 상품 | D7: 4.1 | E7: 4 | F7: 3.1 | G7: 4.7 | H7: 11.3 | I7: -0.6 | J7: 1.7 | K7: 2.8 | L7: 5.4 | M7: 2.1 | N7: 3.8 | O7: 8.3 | P7: 6.5 | Q7: -1.8 | R7: 3.5 | S7: 4.2
A8: 4 | B8: Durable goods | C8: 내구재 | D8: 6.8 | E8: 6.6 | F8: 3.3 | G8: 7.4 | H8: 16.4 | I8: -2 | J8: 3.8 | K8: 3.9 | L8: 8.6 | M8: 2.8 | N8: 5.2 | O8: 14.1 | P8: 5.5 | Q8: -1.9 | R8: 5.9 | S8: 7
A9: 5 | B9: Nondurable goods | C9: 비내구재 | D9: 2.8 | E9: 2.6 | F9: 3 | G9: 3.3 | H9: 8.6 | I9: 0.2 | J9: 0.6 | K9: 2.3 | L9: 3.8 | M9: 1.8 | N9: 3.1 | O9: 5.3 | P9: 7.1 | Q9: -1.7 | R9: 2.2 | S9: 2.8
A10: 6 | B10: Services | C10: 서비스 | D10: 1.9 | E10: 2.2 | F10: 1.7 | G10: -5.8 | H10: 7.6 | I10: 4.9 | J10: 3 | K10: 3 | L10: 2 | M10: 2 | N10: 2.4 | O10: -5 | P10: 8.4 | Q10: 3.3 | R10: 2.8 | S10: 3
A11: 7 | B11: Gross private domestic investment | C11: 민간국내총투자 | D11: 4.4 | E11: 5.8 | F11: 3.2 | G11: -4.4 | H11: 9 | I11: 6.1 | J11: 0.8 | K11: 3 | L11: 4.9 | M11: 4.7 | N11: 1.2 | O11: 2.9 | P11: 8.1 | Q11: -0.2 | R11: 3.1 | S11: 0.1
A12: 8 | B12: Fixed investment | C12: 고정투자 | D12: 4.5 | E12: 5.1 | F12: 2.7 | G12: -1.9 | H12: 7.3 | I12: 2.5 | J12: 3.4 | K12: 3 | L12: 5.5 | M12: 3.3 | N12: 2.9 | O12: 1.2 | P12: 4 | Q12: 1.4 | R12: 5.7 | S12: 1
A13: 9 | B13: Nonresidential | C13: 비주거용 | D13: 4.6 | E13: 6.9 | F13: 3.8 | G13: -4.6 | H13: 6.2 | I13: 6.5 | J13: 7.3 | K13: 2.9 | L13: 5.6 | M13: 5.6 | N13: 3.1 | O13: -3.2 | P13: 5.1 | Q13: 8.1 | R13: 6.6 | S13: 0.9
A14: 10 | B14: Structures | C14: 구조물 | D14: 2.6 | E14: 5.8 | F14: 2.3 | G14: -9.2 | H14: -2.7 | I14: 3.5 | J14: 16.7 | K14: 1.1 | L14: -0.4 | M14: 3.5 | N14: 5.9 | O14: -13.5 | P14: -1.4 | Q14: 9.7 | R14: 16.8 | S14: -4.8
A15: 11 | B15: Equipment | C15: 장비 | D15: 3.8 | E15: 5.9 | F15: 1 | G15: -9.9 | H15: 7.1 | I15: 2.8 | J15: 2.9 | K15: 3.5 | L15: 7.5 | M15: 3.3 | N15: -2.2 | O15: -3.2 | P15: 1.1 | Q15: 4.6 | R15: 3.1 | S15: 3.2
A16: 12 | B16: Intellectual property products | C16: 지식재산 | D16: 6.9 | E16: 8.9 | F16: 8.2 | G16: 4.5 | H16: 10.4 | I16: 11.7 | J16: 6.2 | K16: 3.5 | L16: 7.2 | M16: 9.9 | N16: 7.8 | O16: 3.3 | P16: 12.7 | Q16: 10.6 | R16: 4.3 | S16: 2.3
A17: 13 | B17: Residential | C17: 주거용 | D17: 4.3 | E17: -0.7 | F17: -0.9 | G17: 7.4 | H17: 10.6 | I17: -8.1 | J17: -7.8 | K17: 3.2 | L17: 5.1 | M17: -4.1 | N17: 2.3 | O17: 16.5 | P17: 0.7 | Q17: -15.9 | R17: 2.4 | S17: 1.3
A18: 14 | B18: Change in private inventories | C18: 민간재고 변화 | D18: .... | E18: .... | F18: .... | G18: .... | H18: .... | I18: .... | J18: .... | K18: .... | L18: .... | M18: .... | N18: .... | O18: .... | P18: .... | Q18: .... | R18: .... | S18: ....
A19: 15 | B19: Net exports of goods and services | C19: 상품 및 서비스 순수출 | D19: .... | E19: .... | F19: .... | G19: .... | H19: .... | I19: .... | J19: .... | K19: .... | L19: .... | M19: .... | N19: .... | O19: .... | P19: .... | Q19: .... | R19: .... | S19: ....
A20: 16 | B20: Exports | C20: 수출 | D20: 4.1 | E20: 2.9 | F20: 0.5 | G20: -12.6 | H20: 6.5 | I20: 7.6 | J20: 2.8 | K20: 3.6 | L20: 6.1 | M20: 0.3 | N20: 1.1 | O20: -9.5 | P20: 7.1 | Q20: 4.9 | R20: 2.2 | S20: 3.3
A21: 17 | B21: Goods | C21: 상품 | D21: 4.1 | E21: 4.2 | F21: 0.2 | G21: -10 | H21: 7.7 | I21: 6.1 | J21: 2.2 | K21: 2 | L21: 6.1 | M21: 1.6 | N21: 0.2 | O21: -4.5 | P21: 5.5 | Q21: 3.3 | R21: 1.8 | S21: 1.1
A22: 18 | B22: Services | C22: 서비스 | D22: 4.1 | E22: 0.3 | F22: 1.2 | G22: -17.3 | H22: 4 | I22: 10.9 | J22: 4.1 | K22: 6.7 | L22: 6 | M22: -1.9 | N22: 2.7 | O22: -18.5 | P22: 10.4 | Q22: 8.4 | R22: 2.9 | S22: 7.3
A23: 19 | B23: Imports | C23: 수입 | D23: 4.7 | E23: 4 | F23: 1.2 | G23: -8.8 | H23: 14.6 | I23: 8.5 | J23: -0.9 | K23: 5.8 | L23: 5.8 | M23: 3 | N23: -1.8 | O23: 0.3 | P23: 11.1 | Q23: 2.3 | R23: 1.3 | S23: 6.2
A24: 20 | B24: Goods | C24: 상품 | D24: 4.5 | E24: 5.1 | F24: 0.5 | G24: -5.9 | H24: 14.5 | I24: 6.7 | J24: -1.9 | K24: 5.2 | L24: 5.5 | M24: 3.7 | N24: -2.6 | O24: 5.2 | P24: 8.7 | Q24: 0.8 | R24: 0.3 | S24: 5.4
A25: 21 | B25: Services | C25: 서비스 | D25: 5.7 | E25: -0.6 | F25: 4 | G25: -21 | H25: 15 | I25: 17.1 | J25: 3.8 | K25: 8.2 | L25: 7.1 | M25: -0.1 | N25: 1.5 | O25: -19.7 | P25: 23.7 | Q25: 9.4 | R25: 5.4 | S25: 9.3
A26: 22 | B26: Government consumption expenditures and gross investment | C26: 정부소비지출 및 총투자 | D26: 0.6 | E26: 2 | F26: 3.9 | G26: 3.4 | H26: -0.1 | I26: -1.2 | J26: 3.5 | K26: 3.8 | L26: 1 | M26: 1.9 | N26: 4.8 | O26: 1.6 | P26: -0.5 | Q26: 0.3 | R26: 4.3 | S26: 3.6
A27: 23 | B27: Federal | C27: 연방 | D27: 0.5 | E27: 3.5 | F27: 3.8 | G27: 6.3 | H27: 1.9 | I27: -3.3 | J27: 3.3 | K27: 3.8 | L27: 1.4 | M27: 3.5 | N27: 4 | O27: 5.2 | P27: 0.7 | Q27: -1.2 | R27: 3.6 | S27: 4.5
A28: 24 | B28: National defense | C28: 국방 | D28: 1 | E28: 3.5 | F28: 5.4 | G28: 2.9 | H28: -0.9 | I28: -3.8 | J28: 3.7 | K28: 4 | L28: 2.1 | M28: 4.5 | N28: 4.3 | O28: 4.3 | P28: -4.6 | Q28: -1.5 | R28: 4.1 | S28: 5.4
A29: 25 | B29: Nondefense | C29: 비국방 | D29: -0.2 | E29: 3.4 | F29: 1.6 | G29: 11.5 | H29: 5.7 | I29: -2.7 | J29: 2.8 | K29: 3.6 | L29: 0.4 | M29: 2.1 | N29: 3.5 | O29: 6.7 | P29: 8.4 | Q29: -1 | R29: 2.9 | S29: 3.2
A30: 26 | B30: State and local | C30: 주 및 지방 | D30: 0.6 | E30: 1.1 | F30: 3.9 | G30: 1.7 | H30: -1.3 | I30: 0 | J30: 3.6 | K30: 3.8 | L30: 0.8 | M30: 0.9 | N30: 5.3 | O30: -0.6 | P30: -1.3 | Q30: 1.3 | R30: 4.8 | S30: 3.1
B31: Addenda: | C31: 부록:
A32: 27 | B32: Gross domestic income (GDI) 1 | C32: 국내총소득 | D32: 2.4 | E32: 3 | F32: 2.6 | G32: -2.4 | H32: 6.6 | I32: 2.7 | J32: 1.7 | K32: 3 | L32: 3 | M32: 2.8 | N32: 2.6 | O32: 0.2 | P32: 5.1 | Q32: 0.5 | R32: 3.2 | S32: 2.6
A33: 28 | B33: Average of GDP and GDI | C33: 국내총생산과 국내총소득의 평균 | D33: 2.4 | E33: 3 | F33: 2.6 | G33: -2.2 | H33: 6.4 | I33: 2.6 | J33: 2.3 | K33: 2.9 | L33: 3 | M33: 2.4 | N33: 3 | O33: -0.3 | P33: 5.4 | Q33: 0.9 | R33: 3.3 | S33: 2.5
A34: 29 | B34: Final sales of domestic product | C34: 국내생산 최종 판매액 | D34: 2.5 | E34: 2.9 | F34: 2.5 | G34: -1.6 | H34: 5.9 | I34: 1.9 | J34: 3.4 | K34: 2.8 | L34: 3.1 | M34: 1.9 | N34: 3.7 | O34: -1.2 | P34: 5 | Q34: 1.6 | R34: 3.9 | S34: 2.6
A35: 30 | B35: Gross domestic purchases | C35: 국내총구매액 | D35: 2.6 | E35: 3.1 | F35: 2.6 | G35: -1.8 | H35: 7.2 | I35: 2.8 | J35: 2.4 | K35: 3.1 | L35: 3 | M35: 2.5 | N35: 2.9 | O35: 0.2 | P35: 6.3 | Q35: 1.1 | R35: 3.2 | S35: 2.8
A36: 31 | B36: Final sales to domestic purchasers | C36: 국내 구매자에 대한 최종 판매액 | D36: 2.6 | E36: 3 | F36: 2.5 | G36: -1.4 | H36: 6.9 | I36: 2.2 | J36: 2.9 | K36: 3.1 | L36: 3.1 | M36: 2.2 | N36: 3.2 | O36: -0.1 | P36: 5.6 | Q36: 1.3 | R36: 3.7 | S36: 3
A37: 32 | B37: Final sales to private domestic purchasers | C37: 민간 국내 구매자에 대한 최종 판매액 | D37: 3 | E37: 3.2 | F37: 2.3 | G37: -2.4 | H37: 8.5 | I37: 2.9 | J37: 2.7 | K37: 3 | L37: 3.6 | M37: 2.3 | N37: 2.9 | O37: -0.4 | P37: 7 | Q37: 1.6 | R37: 3.6 | S37: 2.9
A38: 33 | B38: Gross national product | C38: 국민총생산 | D38: 2.7 | E38: 2.9 | F38: 2.5 | G38: -2.4 | H38: 5.8 | I38: 2.5 | J38: 2.7 | K38: 2.4 | L38: 3.3 | M38: 1.8 | N38: 3.2 | O38: -1.3 | P38: 5.6 | Q38: 1.2 | R38: 3 | S38: 2.4
A39: 34 | B39: Real disposable personal income | C39: 실질 개인 가처분소득 | D39: 3.1 | E39: 3.6 | F39: 3.1 | G39: 6.4 | H39: 3.9 | I39: -5.6 | J39: 5.7 | K39: 2.9 | L39: 3.5 | M39: 4 | N39: 2.3 | O39: 4.6 | P39: 1.4 | Q39: -0.9 | R39: 5.4 | S39: 2.4
B40: Price indexes: | C40: 물가지수:
...

Sheet Table 6
A1: Table 6. Real Gross Domestic Product: Percent Change from Quarter One Year Ago
A2: =VLOOKUP(A1,Contents!$B:$C,2,0) -> 실질 국내총생산: 전년동기대비 백분율 변화
A3: Line | D3: 2021 | E3: 2021 | F3: 2022 | G3: 2022 | H3: 2022 | I3: 2022 | J3: 2023 | K3: 2023 | L3: 2023 | M3: 2023 | N3: 2024 | O3: 2024 | P3: 2024 | Q3: 2024 | R3: 2025 | S3: 2025
A4: Line | D4: Q3 | E4: Q4 | F4: Q1 | G4: Q2 | H4: Q3 | I4: Q4 | J4: Q1 | K4: Q2 | L4: Q3 | M4: Q4 | N4: Q1 | O4: Q2 | P4: Q3 | Q4: Q4 | R4: Q1 | S4: Q2
A5: 1 | B5: Gross domestic product (GDP) | C5: 국내총생산 | D5: 5.2 | E5: 5.8 | F5: 4 | G5: 2.5 | H5: 2.3 | I5: 1.3 | J5: 2.3 | K5: 2.8 | L5: 3.2 | M5: 3.4 | N5: 2.9 | O5: 3.1 | P5: 2.8 | Q5: 2.4 | R5: 2 | S5: 2.1
A6: 2 | B6: Personal consumption expenditures (PCE) | C6: 개인소비지출 | D6: 8.2 | E6: 7.8 | F6: 5.5 | G6: 2.7 | H6: 2.4 | I6: 1.6 | J6: 2.6 | K6: 2.2 | L6: 2.5 | M6: 3 | N6: 2.3 | O6: 2.9 | P6: 3.2 | Q6: 3.4 | R6: 3.1 | S6: 2.7
A7: 3 | B7: Goods | C7: 상품 | D7: 6.2 | E7: 6.5 | F7: 1.8 | G7: -2 | H7: -0.3 | I7: -1.8 | J7: 0.4 | K7: 0.6 | L7: 2.4 | M7: 3.5 | N7: 1.4 | O7: 2.6 | P7: 3.1 | Q7: 4.2 | R7: 4.6 | S7: 3.8
A8: 4 | B8: Durable goods | C8: 내구재 | D8: 4.6 | E8: 5.5 | F8: -1.3 | G8: -5.4 | H8: 0.8 | I8: -1.9 | J8: 2.2 | K8: 2.6 | L8: 4.6 | M8: 5.9 | N8: 1.4 | O8: 3.3 | P8: 3.8 | Q8: 7 | R8: 6.3 | S8: 4.9
A9: 5 | B9: Nondurable goods | C9: 비내구재 | D9: 7 | E9: 7.1 | F9: 3.6 | G9: 0 | H9: -1 | I9: -1.7 | J9: -0.5 | K9: -0.4 | L9: 1.2 | M9: 2.2 | N9: 1.4 | O9: 2.3 | P9: 2.7 | Q9: 2.8 | R9: 3.8 | S9: 3.2
A10: 6 | B10: Services | C10: 서비스 | D10: 9.2 | E10: 8.4 | F10: 7.4 | G10: 5.3 | H10: 3.8 | I10: 3.3 | J10: 3.7 | K10: 2.9 | L10: 2.5 | M10: 2.8 | N10: 2.8 | O10: 3.1 | P10: 3.2 | Q10: 3 | R10: 2.4 | S10: 2.2
A11: 7 | B11: Gross private domestic investment | C11: 민간국내총투자 | D11: 4.8 | E11: 8.1 | F11: 11 | G11: 9.9 | H11: 4.3 | I11: -0.2 | J11: -3.8 | K11: 0.1 | L11: 4.1 | M11: 3.1 | N11: 4.6 | O11: 4.8 | P11: 2.7 | Q11: 0.1 | R11: 5.9 | S11: 0
A12: 8 | B12: Fixed investment | C12: 고정투자 | D12: 7.3 | E12: 4 | F12: 3.6 | G12: 2.6 | H12: 2.3 | I12: 1.4 | J12: 1 | K12: 2.8 | L12: 4.4 | M12: 5.7 | N12: 5.2 | O12: 3.2 | P12: 2.6 | Q12: 1 | R12: 2 | S12: 2.7
A13: 9 | B13: Nonresidential | C13: 비주거용 | D13: 7.2 | E13: 5.1 | F13: 5.8 | G13: 5.1 | H13: 7 | I13: 8.1 | J13: 7.2 | K13: 8.2 | L13: 7 | M13: 6.6 | N13: 4.9 | O13: 2.8 | P13: 3.2 | Q13: 0.9 | R13: 2.8 | S13: 4
A14: 10 | B14: Structures | C14: 구조물 | D14: 1.5 | E14: -1.4 | F14: -1.1 | G14: 0.9 | H14: 4.5 | I14: 9.7 | J14: 15.1 | K14: 17.9 | L14: 16.9 | M14: 16.8 | N14: 7.9 | O14: 2.1 | P14: -0.2 | Q14: -4.8 | R14: -4.3 | S14: -5.3
A15: 11 | B15: Equipment | C15: 장비 | D15: 5.5 | E15: 1.1 | F15: 2.8 | G15: 0.1 | H15: 3.8 | I15: 4.6 | J15: 1.4 | K15: 4.3 | L15: 2.9 | M15: 3.1 | N15: 3.3 | O15: 2.4 | P15: 5.2 | Q15: 3.2 | R15: 8.2 | S15: 8.1
A16: 12 | B16: Intellectual property products | C16: 지식재산 | D16: 12.1 | E16: 12.7 | F16: 12.5 | G16: 12.3 | H16: 11.5 | I16: 10.6 | J16: 8.5 | K16: 6.6 | L16: 5.6 | M16: 4.3 | N16: 4.6 | O16: 3.6 | P16: 3.5 | Q16: 2.3 | R16: 2.3 | S16: 5.7
A17: 13 | B17: Residential | C17: 주거용 | D17: 7.1 | E17: 0.7 | F17: -2.4 | G17: -4.2 | H17: -10.1 | I17: -15.9 | J17: -15.8 | K17: -12.4 | L17: -3.9 | M17: 2.4 | N17: 6.3 | O17: 4.7 | P17: 0.6 | Q17: 1.3 | R17: -0.9 | S17: -1.7
A18: 14 | B18: Change in private inventories | C18: 민간재고 변화 | D18: .... | E18: .... | F18: .... | G18: .... | H18: .... | I18: .... | J18: .... | K18: .... | L18: .... | M18: .... | N18: .... | O18: .... | P18: .... | Q18: .... | R18: .... | S18: ....
A19: 15 | B19: Net exports of goods and services | C19: 상품 및 서비스 순수출 | D19: .... | E19: .... | F19: .... | G19: .... | H19: .... | I19: .... | J19: .... | K19: .... | L19: .... | M19: .... | N19: .... | O19: .... | P19: .... | Q19: .... | R19: .... | S19: ....
A20: 16 | B20: Exports | C20: 수출 | D20: 7.2 | E20: 7.1 | F20: 5.8 | G20: 8 | H20: 11.9 | I20: 4.9 | J20: 7 | K20: 2.3 | L20: -0.1 | M20: 2.2 | N20: 2.4 | O20: 3.9 | P20: 5 | Q20: 3.3 | R20: 2.1 | S20: 1.5
A21: 17 | B21: Goods | C21: 상품 | D21: 5.5 | E21: 5.5 | F21: 3.5 | G21: 6.2 | H21: 11.6 | I21: 3.3 | J21: 7.2 | K21: 1.2 | L21: -1.2 | M21: 1.8 | N21: 0.3 | O21: 3.1 | P21: 3.7 | Q21: 1.1 | R21: 2.7 | S21: 1.4
A22: 18 | B22: Services | C22: 서비스 | D22: 10.7 | E22: 10.4 | F22: 10.7 | G22: 11.9 | H22: 12.7 | I22: 8.4 | J22: 6.6 | K22: 4.6 | L22: 2.3 | M22: 2.9 | N22: 6.5 | O22: 5.4 | P22: 7.5 | Q22: 7.3 | R22: 1.2 | S22: 1.8
A23: 19 | B23: Imports | C23: 수입 | D23: 13.7 | E23: 11.1 | F23: 12.1 | G23: 11.7 | H23: 8.3 | I23: 2.3 | J23: -0.8 | K23: -3 | L23: -0.8 | M23: 1.3 | N23: 3.2 | O23: 5.9 | P23: 7.7 | Q23: 6.2 | R23: 13.2 | S23: 1.8
A24: 20 | B24: Goods | C24: 상품 | D24: 10.6 | E24: 8.7 | F24: 10 | G24: 9.5 | H24: 7 | I24: 0.8 | J24: -2.4 | K24: -4.4 | L24: -1.1 | M24: 0.3 | N24: 2.4 | O24: 5.8 | P24: 7 | Q24: 5.4 | R24: 15 | S24: 1
A25: 21 | B25: Services | C25: 서비스 | D25: 30.4 | E25: 23.7 | F25: 23.6 | G25: 22.9 | H25: 14.1 | I25: 9.4 | J25: 6.5 | K25: 3 | L25: 0.3 | M25: 5.4 | N25: 6.7 | O25: 6.3 | P25: 10.6 | Q25: 9.3 | R25: 6.4 | S25: 4.6
A26: 22 | B26: Government consumption expenditures and gross investment | C26: 정부소비지출 및 총투자 | D26: -0.4 | E26: -0.5 | F26: -2.7 | G26: -1.9 | H26: -0.7 | I26: 0.3 | J26: 2.1 | K26: 3.3 | L26: 4.2 | M26: 4.3 | N26: 3.9 | O26: 3.9 | P26: 3.9 | Q26: 3.6 | R26: 2.7 | S26: 1.9
A27: 23 | B27: Federal | C27: 연방 | D27: -0.1 | E27: 0.7 | F27: -5.3 | G27: -4.1 | H27: -2.6 | I27: -1.2 | J27: 1.9 | K27: 2.9 | L27: 4.9 | M27: 3.6 | N27: 2.7 | O27: 3.8 | P27: 4.2 | Q27: 4.5 | R27: 2.8 | S27: 0.3
A28: 24 | B28: National defense | C28: 국방 | D28: -0.8 | E28: -4.6 | F28: -5.4 | G28: -4.1 | H28: -4.1 | I28: -1.5 | J28: 2.4 | K28: 2.7 | L28: 5.6 | M28: 4.1 | N28: 2.2 | O28: 3.4 | P28: 4.8 | Q28: 5.4 | R28: 4.3 | S28: 2.7
A29: 25 | B29: Nondefense | C29: 비국방 | D29: 0.9 | E29: 8.4 | F29: -5.3 | G29: -4 | H29: -0.4 | I29: -1 | J29: 1.3 | K29: 3.2 | L29: 4 | M29: 2.9 | N29: 3.3 | O29: 4.4 | P29: 3.5 | Q29: 3.2 | R29: 0.8 | S29: -2.8
A30: 26 | B30: State and local | C30: 주 및 지방 | D30: -0.6 | E30: -1.3 | F30: -1 | G30: -0.5 | H30: 0.4 | I30: 1.3 | J30: 2.2 | K30: 3.6 | L30: 3.7 | M30: 4.8 | N30: 4.5 | O30: 3.9 | P30: 3.7 | Q30: 3.1 | R30: 2.7 | S30: 2.8
B31: Addenda: | C31: 부록:
A32: 27 | B32: Gross domestic income (GDI) 1 | C32: 국내총소득 | D32: 7.2 | E32: 5.1 | F32: 4.5 | G32: 3 | H32: 2.8 | I32: 0.5 | J32: 1 | K32: 1.5 | L32: 1.2 | M32: 3.2 | N32: 2.9 | O32: 3.2 | P32: 3.1 | Q32: 2.6 | R32: 2.4 | S32: 2.6
A33: 28 | B33: Average of GDP and GDI | C33: 국내총생산과 국내총소득의 평균 | D33: 6.1 | E33: 5.4 | F33: 4.3 | G33: 2.7 | H33: 2.6 | I33: 0.9 | J33: 1.7 | K33: 2.1 | L33: 2.2 | M33: 3.3 | N33: 2.9 | O33: 3.2 | P33: 2.9 | Q33: 2.5 | R33: 2.2 | S33: 2.3
A34: 29 | B34: Final sales of domestic product | C34: 국내생산 최종 판매액 | D34: 5.6 | E34: 5 | F34: 2.7 | G34: 1.2 | H34: 2 | I34: 1.6 | J34: 3.3 | K34: 3.3 | L34: 3.3 | M34: 3.9 | N34: 3 | O34: 2.8 | P34: 2.8 | Q34: 2.6 | R34: 1.3 | S34: 2.6
A35: 30 | B35: Gross domestic purchases | C35: 국내총구매액 | D35: 6.1 | E35: 6.3 | F35: 5 | G35: 3.1 | H35: 2.2 | I35: 1.1 | J35: 1.4 | K35: 2 | L35: 3 | M35: 3.2 | N35: 3 | O35: 3.4 | P35: 3.2 | Q35: 2.8 | R35: 3.5 | S35: 2.1
A36: 31 | B36: Final sales to domestic purchasers | C36: 국내 구매자에 대한 최종 판매액 | D36: 6.5 | E36: 5.6 | F36: 3.7 | G36: 1.9 | H36: 1.8 | I36: 1.3 | J36: 2.2 | K36: 2.5 | L36: 3.1 | M36: 3.7 | N36: 3.1 | O36: 3.1 | P36: 3.2 | Q36: 3 | R36: 2.8 | S36: 2.6
A37: 32 | B37: Final sales to private domestic purchasers | C37: 민간 국내 구매자에 대한 최종 판매액 | D37: 8 | E37: 7 | F37: 5.1 | G37: 2.7 | H37: 2.4 | I37: 1.6 | J37: 2.3 | K37: 2.3 | L37: 2.9 | M37: 3.6 | N37: 2.9 | O37: 3 | P37: 3 | Q37: 2.9 | R37: 2.8 | S37: 2.7
A38: 33 | B38: Gross national product | C38: 국민총생산 | D38: 4.7 | E38: 5.6 | F38: 3.7 | G38: 2.6 | H38: 2.5 | I38: 1.2 | J38: 2.2 | K38: 2.5 | L38: 2.9 | M38: 3 | N38: 2.4 | O38: 2.7 | P38: 2.3 | Q38: 2.4 | R38: 2.1 | S38: 2.1
A39: 34 | B39: Real disposable personal income | C39: 실질 개인 가처분소득 | D39: 0.4 | E39: 1.4 | F39: -12.4 | G39: -5.6 | H39: -3 | I39: -0.9 | J39: 5.1 | K39: 6.7 | L39: 5.6 | M39: 5.4 | N39: 3.5 | O39: 3 | P39: 2.8 | Q39: 2.4 | R39: 2 | S39: 2.2
B40: Price indexes: | C40: 물가지수:
...

Sheet Table 7
A1: Table 7. Relation of Gross Domestic Product, Gross National Product, and National Income
A2: =VLOOKUP(A1,Contents!$B:$C,2,0) -> 국내총생산, 국민총생산, 국민소득 간의 관계
A3: [Billions of dollars (십억 달러)]
A4: Line | D4: 2022 | E4: 2023 | F4: 2024 | G4: Seasonally adjusted at annual rates (연율 계절조정계열) | H4: Seasonally adjusted at annual rates | I4: Seasonally adjusted at annual rates | J4: Seasonally adjusted at annual rates | K4: Seasonally adjusted at annual rates
A5: Line | D5: 2022 | E5: 2023 | F5: 2024 | G5: 2024 | H5: 2024 | I5: 2024 | J5: 2025 | K5: 2025
A6: Line | D6: 2022 | E6: 2023 | F6: 2024 | G6: Q2 | H6: Q3 | I6: Q4 | J6: Q1 | K6: Q2
A7: 1 | B7: Gross domestic product (GDP) | C7: 국내총생산 | D7: 26054.6 | E7: 27811.5 | F7: 29298 | G7: 29147 | H7: 29511.7 | I7: 29825.2 | J7: 30042.1 | K7: 30485.7
A8: 2 | B8: Plus: Income receipts from the rest of the world | C8: 합산: 해외로부터의 소득 수입 | D8: 1219.8 | E8: 1397.9 | F8: 1485.6 | G8: 1498.6 | H8: 1444.9 | I8: 1546.5 | J8: 1454.8 | K8: 1525.8
A9: 3 | B9: Less: Income payments to the rest of the world | C9: 차감: 해외로부터의 소득 지출 | D9: 1067.7 | E9: 1312.2 | F9: 1493.9 | G9: 1510.6 | H9: 1497.1 | I9: 1507.4 | J9: 1452.7 | K9: 1544.2
A10: 4 | B10: Equals: Gross national product | C10: 동: 국민총생산 | D10: 26206.6 | E10: 27897.2 | F10: 29289.7 | G10: 29135 | H10: 29459.5 | I10: 29864.3 | J10: 30044.2 | K10: 30467.4
A11: 5 | B11: Less: Consumption of fixed capital | C11: 차감: 고정자산 소비 | D11: 4307.4 | E11: 4570.7 | F11: 4796.7 | G11: 4762.1 | H11: 4834.1 | I11: 4895.8 | J11: 4943.2 | K11: 4994.8
A12: 6 | B12: Less: Statistical discrepancy | C12: 차감: 통계적 불일치 | D12: -0.4 | E12: 325.9 | F12: 296.3 | G12: 285.9 | H12: 394.4 | I12: 265.2 | J12: 146.5 | K12: 149.9
A13: 7 | B13: Equals: National income | C13: 동: 국민소득 | D13: 21899.7 | E13: 23000.6 | F13: 24196.7 | G13: 24087 | H13: 24231 | I13: 24703.3 | J13: 24954.5 | K13: 25322.7
A14: 8 | B14: Compensation of employees | C14: 근로자 임금 | D14: 13443.4 | E14: 14207.4 | F14: 15027.1 | G14: 14943.7 | H14: 15115.7 | I14: 15309.1 | J14: 15510.9 | K14: 15701.3
A15: 9 | B15: Wages and salaries | C15: 임금 | D15: 11122.8 | E15: 11732.4 | F15: 12387.9 | G15: 12317.2 | H15: 12458.4 | I15: 12626.6 | J15: 12788.7 | K15: 12945.1
A16: 10 | B16: Supplements to wages and salaries | C16: 임금 보충 | D16: 2320.6 | E16: 2475 | F16: 2639.1 | G16: 2626.5 | H16: 2657.3 | I16: 2682.5 | J16: 2722.2 | K16: 2756.2
A17: 11 | B17: Proprietors' income with inventory valuation and capital consumption adjustments | C17: 재고평가 및 자본소비 조정을 적용한 자영업자 소득 | D17: 1868.9 | E17: 1942 | F17: 2023.1 | G17: 2013.2 | H17: 2031.7 | I17: 2064.5 | J17: 2103.3 | K17: 2105.2
A18: 12 | B18: Rental income of persons with capital consumption adjustment | C18: 자본소비 조정을 적용한 개인의 임대 소득 | D18: 871.1 | E18: 1002.5 | F18: 1078.1 | G18: 1069.7 | H18: 1077.3 | I18: 1096.7 | J18: 1115.6 | K18: 1119.2
... A23: 17 | B23: Current surplus of government enterprises | C23: 정부기업 경상잉여금 | D23: -16 | E23: -46.9 | F23: -47.5 | G23: -47.6 | H23: -46.2 | I23: -48.2 | J23: -48.3 | K23: -52.4
B24: Addenda: | C24: 부록:
A25: 18 | B25: Gross domestic income (GDI) | C25: 국내총소득 | D25: 26055 | E25: 27485.7 | F25: 29001.7 | G25: 28861.1 | H25: 29117.3 | I25: 29560 | J25: 29895.7 | K25: 30335.8
A26: 19 | B26: Average of GDP and GDI | C26: 국내총생산과 국내총소득의 평균 | D26: 26054.8 | E26: 27648.6 | F26: 29149.9 | G26: 29004.1 | H26: 29314.5 | I26: 29692.6 | J26: 29968.9 | K26: 30410.8
A27: 20 | B27: Statistical discrepancy as a percentage of GDP | C27: 국내총생산 대비 통계적 불일치 비율 | D27: 0 | E27: 1.2 | F27: 1 | G27: 1 | H27: 1.3 | I27: 0.9 | J27: 0.5 | K27: 0.5
A29: Source: U.S. Bureau of Economic Analysis

Sheet Table 8
A1: Table 8. Personal Income and Its Disposition
A2: =VLOOKUP(A1,Contents!$B:$C,2,0) -> 개인 소득 및 분배
A3: [Billions of dollars (십억 달러)]
A4: Line | D4: 2022 | E4: 2023 | F4: 2024 | G4: Seasonally adjusted at annual rates (연율 계절조정계열) | H4: Seasonally adjusted at annual rates | I4: Seasonally adjusted at annual rates | J4: Seasonally adjusted at annual rates | K4: Seasonally adjusted at annual rates
A5: Line | D5: 2022 | E5: 2023 | F5: 2024 | G5: 2024 | H5: 2024 | I5: 2024 | J5: 2025 | K5: 2025
A6: Line | D6: 2022 | E6: 2023 | F6: 2024 | G6: Q2 | H6: Q3 | I6: Q4 | J6: Q1 | K6: Q2
A7: 1 | B7: Personal income 1 | C7: 개인 소득 | D7: 22153.8 | E7: 23585 | F7: 24905.9 | G7: 24800.8 | H7: 25021.7 | I7: 25322.4 | J7: 25717.7 | K7: 26067.1
A8: 2 | B8: Compensation of employees | C8: 근로자 임금 | D8: 13443.4 | E8: 14207.4 | F8: 15027.1 | G8: 14943.7 | H8: 15115.7 | I8: 15309.1 | J8: 15510.9 | K8: 15701.3
A9: 3 | B9: Wages and salaries | C9: 임금 | D9: 11122.8 | E9: 11732.4 | F9: 12387.9 | G9: 12317.2 | H9: 12458.4 | I9: 12626.6 | J9: 12788.7 | K9: 12945.1
A10: 4 | B10: Private industries | C10: 민간 산업 | D10: 9501.5 | E10: 10000.5 | F10: 10538.8 | G10: 10479.8 | H10: 10598.5 | I10: 10739.4 | J10: 10879 | K10: 11015.4
